Package: PhosR Version: 1.19.2 Command: /home/biocbuild/R/R/bin/R CMD INSTALL PhosR StartedAt: 2025-10-13 20:53:39 -0000 (Mon, 13 Oct 2025) EndedAt: 2025-10-13 20:54:18 -0000 (Mon, 13 Oct 2025) EllapsedTime: 38.8 seconds RetCode: 0 Status: OK