Package: PhosR Version: 1.19.2 Command: /home/biocbuild/R/R/bin/R CMD build --keep-empty-dirs --no-resave-data PhosR StartedAt: 2025-10-14 02:34:37 -0000 (Tue, 14 Oct 2025) EndedAt: 2025-10-14 02:39:19 -0000 (Tue, 14 Oct 2025) EllapsedTime: 282.2 seconds RetCode: 0 Status: OK PackageFile: PhosR_1.19.2.tar.gz PackageFileSize: 6.774 MiB