Package: PhosR Version: 1.19.0 Command: rm -rf PhosR.buildbin-libdir && mkdir PhosR.buildbin-libdir && F:\biocbuild\bbs-3.22-bioc\R\bin\R.exe CMD INSTALL --build --library=PhosR.buildbin-libdir PhosR_1.19.0.tar.gz StartedAt: 2025-08-15 10:57:10 -0400 (Fri, 15 Aug 2025) EndedAt: 2025-08-15 10:58:20 -0400 (Fri, 15 Aug 2025) EllapsedTime: 69.7 seconds RetCode: 0 Status: OK PackageFile: PhosR_1.19.0.zip PackageFileSize: 4.759 MiB