Package: PhosR Version: 1.19.2 Command: /home/biocbuild/bbs-3.22-bioc/R/bin/R CMD check --install=check:PhosR.install-out.txt --library=/home/biocbuild/bbs-3.22-bioc/R/site-library --timings PhosR_1.19.2.tar.gz StartedAt: 2025-10-25 02:44:18 -0400 (Sat, 25 Oct 2025) EndedAt: 2025-10-25 02:52:40 -0400 (Sat, 25 Oct 2025) EllapsedTime: 502.5 seconds RetCode: 0 Status: OK CheckDir: PhosR.Rcheck Warnings: 0