Package: PhosR Version: 1.21.0 Command: /home/biocbuild/bbs-3.23-bioc/R/bin/R CMD build --keep-empty-dirs --no-resave-data PhosR StartedAt: 2025-11-20 19:16:55 -0500 (Thu, 20 Nov 2025) EndedAt: 2025-11-20 19:20:03 -0500 (Thu, 20 Nov 2025) EllapsedTime: 188.2 seconds RetCode: 0 Status: OK PackageFile: PhosR_1.21.0.tar.gz PackageFileSize: 7.426 MiB