Package: PhosR Version: 1.19.2 Command: /Library/Frameworks/R.framework/Resources/bin/R CMD INSTALL PhosR StartedAt: 2025-09-30 15:19:12 -0400 (Tue, 30 Sep 2025) EndedAt: 2025-09-30 15:19:54 -0400 (Tue, 30 Sep 2025) EllapsedTime: 41.8 seconds RetCode: 0 Status: OK