Package: PhosR Version: 1.19.2 Command: /Library/Frameworks/R.framework/Resources/bin/R CMD build --keep-empty-dirs --no-resave-data PhosR StartedAt: 2025-09-30 18:16:41 -0400 (Tue, 30 Sep 2025) EndedAt: 2025-09-30 18:20:32 -0400 (Tue, 30 Sep 2025) EllapsedTime: 230.9 seconds RetCode: 0 Status: OK PackageFile: PhosR_1.19.2.tar.gz PackageFileSize: 7.961 MiB