Package: PhosR Version: 1.19.2 Maintainer: Di Xiao MaintainerEmail: di.xiao at sydney.edu.au git_url: https://git.bioconductor.org/packages/PhosR git_branch: devel git_last_commit: 6ee352c git_last_commit_date: 2025-09-09 05:32:59 -0400 (Tue, 09 Sep 2025)