Package: PhenoGeneRanker Version: 1.19.0 Command: /home/biocbuild/bbs-3.23-bioc/R/bin/R CMD build --keep-empty-dirs --no-resave-data PhenoGeneRanker StartedAt: 2025-11-21 19:18:08 -0500 (Fri, 21 Nov 2025) EndedAt: 2025-11-21 19:24:36 -0500 (Fri, 21 Nov 2025) EllapsedTime: 388.5 seconds RetCode: 0 Status: OK PackageFile: PhenoGeneRanker_1.19.0.tar.gz PackageFileSize: 28.08 KiB