Package: PhenoGeneRanker Version: 1.19.0 Command: /Library/Frameworks/R.framework/Resources/bin/R CMD build --keep-empty-dirs --no-resave-data PhenoGeneRanker StartedAt: 2025-11-20 17:17:34 -0500 (Thu, 20 Nov 2025) EndedAt: 2025-11-20 17:19:43 -0500 (Thu, 20 Nov 2025) EllapsedTime: 129.5 seconds RetCode: 0 Status: OK PackageFile: PhenoGeneRanker_1.19.0.tar.gz PackageFileSize: 28.17 KiB