Package: PhenoGeneRanker Version: 1.19.0 Command: rm -rf PhenoGeneRanker.buildbin-libdir && mkdir PhenoGeneRanker.buildbin-libdir && /Users/biocbuild/BBS/utils/build-universal.sh PhenoGeneRanker_1.19.0.tar.gz /Library/Frameworks/R.framework/Resources/bin/R PhenoGeneRanker.buildbin-libdir StartedAt: 2025-11-20 23:45:53 -0500 (Thu, 20 Nov 2025) EndedAt: 2025-11-20 23:45:57 -0500 (Thu, 20 Nov 2025) EllapsedTime: 4.1 seconds RetCode: 0 Status: OK PackageFile: PhenoGeneRanker_1.19.0.tgz PackageFileSize: 80.21 KiB