Package: PhenStat Version: 2.45.1 Command: /home/biocbuild/bbs-3.23-bioc/R/bin/R CMD INSTALL PhenStat StartedAt: 2025-10-22 21:51:01 -0000 (Wed, 22 Oct 2025) EndedAt: 2025-10-22 21:51:03 -0000 (Wed, 22 Oct 2025) EllapsedTime: 2.6 seconds RetCode: 1 Status: ERROR