############################################################################## ############################################################################## ### ### Running command: ### ### /home/biocbuild/bbs-3.23-bioc/R/bin/R CMD build --keep-empty-dirs --no-resave-data PhenStat ### ############################################################################## ############################################################################## * checking for file ‘PhenStat/DESCRIPTION’ ... OK * preparing ‘PhenStat’: * checking DESCRIPTION meta-information ... OK * installing the package (it is needed to build vignettes) ----------------------------------- ERROR: dependency ‘SmoothWin’ is not available for package ‘PhenStat’ Perhaps try a variation of: install.packages('SmoothWin') * removing ‘/tmp/Rtmpu2RKfP/Rinst163ed73202e8d5/PhenStat’ ----------------------------------- ERROR: package installation failed