############################################################################## ############################################################################## ### ### Running command: ### ### /Library/Frameworks/R.framework/Resources/bin/R CMD build --keep-empty-dirs --no-resave-data PhenStat ### ############################################################################## ############################################################################## * checking for file ‘PhenStat/DESCRIPTION’ ... OK * preparing ‘PhenStat’: * checking DESCRIPTION meta-information ... OK * installing the package to build vignettes ----------------------------------- ERROR: dependency ‘SmoothWin’ is not available for package ‘PhenStat’ Perhaps try a variation of: install.packages('SmoothWin') * removing ‘/private/tmp/Rtmp53ok8u/Rinst1056673e163b9/PhenStat’ ----------------------------------- ERROR: package installation failed