Package: PhenStat Version: 2.45.1 Command: /Library/Frameworks/R.framework/Resources/bin/R CMD INSTALL PhenStat StartedAt: 2025-10-01 15:35:52 -0400 (Wed, 01 Oct 2025) EndedAt: 2025-10-01 15:35:52 -0400 (Wed, 01 Oct 2025) EllapsedTime: 0.1 seconds RetCode: 1 Status: ERROR