Package: PhenStat Version: 2.45.1 Command: /Library/Frameworks/R.framework/Resources/bin/R CMD build --keep-empty-dirs --no-resave-data PhenStat StartedAt: 2025-09-30 17:23:36 -0400 (Tue, 30 Sep 2025) EndedAt: 2025-09-30 17:23:37 -0400 (Tue, 30 Sep 2025) EllapsedTime: 1.0 seconds RetCode: 1 Status: ERROR PackageFile: None PackageFileSize: NA