Package: PhenStat Version: 2.45.1 Maintainer: Hamed Haselimashhadi MaintainerEmail: hamedhm at ebi.ac.uk git_url: https://git.bioconductor.org/packages/PhenStat git_branch: devel git_last_commit: c16bc8d git_last_commit_date: 2025-09-22 09:51:44 -0400 (Mon, 22 Sep 2025)