Package: PharmacoGx Version: 3.15.0 Command: /home/biocbuild/bbs-3.23-bioc/R/bin/R CMD build --keep-empty-dirs --no-resave-data PharmacoGx StartedAt: 2025-11-20 19:16:08 -0500 (Thu, 20 Nov 2025) EndedAt: 2025-11-20 19:17:30 -0500 (Thu, 20 Nov 2025) EllapsedTime: 82.1 seconds RetCode: 0 Status: OK PackageFile: PharmacoGx_3.15.0.tar.gz PackageFileSize: 4.486 MiB