Package: PharmacoGx Version: 3.13.2 Command: /Library/Frameworks/R.framework/Resources/bin/R CMD INSTALL PharmacoGx StartedAt: 2025-10-22 15:26:33 -0400 (Wed, 22 Oct 2025) EndedAt: 2025-10-22 15:27:33 -0400 (Wed, 22 Oct 2025) EllapsedTime: 60.3 seconds RetCode: 0 Status: OK