Package: PharmacoGx Version: 3.13.2 Command: rm -rf PharmacoGx.buildbin-libdir && mkdir PharmacoGx.buildbin-libdir && /Users/biocbuild/BBS/utils/build-universal.sh PharmacoGx_3.13.2.tar.gz /Library/Frameworks/R.framework/Resources/bin/R PharmacoGx.buildbin-libdir StartedAt: 2025-10-23 01:47:50 -0400 (Thu, 23 Oct 2025) EndedAt: 2025-10-23 01:48:56 -0400 (Thu, 23 Oct 2025) EllapsedTime: 65.9 seconds RetCode: 0 Status: OK PackageFile: PharmacoGx_3.13.2.tgz PackageFileSize: 3.928 MiB