Package: PharmacoGx Version: 3.13.2 Command: /Library/Frameworks/R.framework/Resources/bin/R CMD INSTALL PharmacoGx StartedAt: 2025-10-03 15:15:09 -0400 (Fri, 03 Oct 2025) EndedAt: 2025-10-03 15:15:27 -0400 (Fri, 03 Oct 2025) EllapsedTime: 17.4 seconds RetCode: 0 Status: OK