Package: PharmacoGx Version: 3.13.2 Command: /Library/Frameworks/R.framework/Resources/bin/R CMD build --keep-empty-dirs --no-resave-data PharmacoGx StartedAt: 2025-10-03 17:19:35 -0400 (Fri, 03 Oct 2025) EndedAt: 2025-10-03 17:20:10 -0400 (Fri, 03 Oct 2025) EllapsedTime: 35.4 seconds RetCode: 0 Status: OK PackageFile: PharmacoGx_3.13.2.tar.gz PackageFileSize: 4.468 MiB