Package: PharmacoGx Version: 3.13.2 Command: rm -rf PharmacoGx.buildbin-libdir && mkdir PharmacoGx.buildbin-libdir && /Users/biocbuild/BBS/utils/build-universal.sh PharmacoGx_3.13.2.tar.gz /Library/Frameworks/R.framework/Resources/bin/R PharmacoGx.buildbin-libdir StartedAt: 2025-10-03 22:50:06 -0400 (Fri, 03 Oct 2025) EndedAt: 2025-10-03 22:50:24 -0400 (Fri, 03 Oct 2025) EllapsedTime: 18.4 seconds RetCode: 0 Status: OK PackageFile: PharmacoGx_3.13.2.tgz PackageFileSize: 3.93 MiB