Package: PhIPData Version: 1.17.0 Command: /home/biocbuild/R/R/bin/R CMD INSTALL PhIPData StartedAt: 2025-10-06 21:14:59 -0000 (Mon, 06 Oct 2025) EndedAt: 2025-10-06 21:15:38 -0000 (Mon, 06 Oct 2025) EllapsedTime: 38.7 seconds RetCode: 0 Status: OK