Package: PhIPData Version: 1.17.0 Command: /home/biocbuild/R/R/bin/R CMD build --keep-empty-dirs --no-resave-data PhIPData StartedAt: 2025-10-07 01:54:19 -0000 (Tue, 07 Oct 2025) EndedAt: 2025-10-07 01:55:14 -0000 (Tue, 07 Oct 2025) EllapsedTime: 55.0 seconds RetCode: 0 Status: OK PackageFile: PhIPData_1.17.0.tar.gz PackageFileSize: 846.4 KiB