Package: PhIPData Version: 1.17.0 Command: chmod a+r PhIPData -R && F:\biocbuild\bbs-3.22-bioc\R\bin\R.exe CMD build --keep-empty-dirs --no-resave-data PhIPData StartedAt: 2025-08-14 22:19:41 -0400 (Thu, 14 Aug 2025) EndedAt: 2025-08-14 22:20:41 -0400 (Thu, 14 Aug 2025) EllapsedTime: 59.7 seconds RetCode: 0 Status: OK PackageFile: PhIPData_1.17.0.tar.gz PackageFileSize: 821 KiB