Package: PhIPData Version: 1.17.0 Command: rm -rf PhIPData.buildbin-libdir && mkdir PhIPData.buildbin-libdir && F:\biocbuild\bbs-3.22-bioc\R\bin\R.exe CMD INSTALL --build --library=PhIPData.buildbin-libdir PhIPData_1.17.0.tar.gz StartedAt: 2025-08-15 10:57:05 -0400 (Fri, 15 Aug 2025) EndedAt: 2025-08-15 10:58:02 -0400 (Fri, 15 Aug 2025) EllapsedTime: 56.5 seconds RetCode: 0 Status: OK PackageFile: PhIPData_1.17.0.zip PackageFileSize: 1.204 MiB