Package: PhIPData Version: 1.17.0 Command: /home/biocbuild/bbs-3.22-bioc/R/bin/R CMD check --install=check:PhIPData.install-out.txt --library=/home/biocbuild/bbs-3.22-bioc/R/site-library --timings PhIPData_1.17.0.tar.gz StartedAt: 2025-10-06 02:57:41 -0400 (Mon, 06 Oct 2025) EndedAt: 2025-10-06 03:01:29 -0400 (Mon, 06 Oct 2025) EllapsedTime: 228.2 seconds RetCode: 0 Status: OK CheckDir: PhIPData.Rcheck Warnings: 0