Package: PhIPData Version: 1.19.0 Command: /home/biocbuild/bbs-3.23-bioc/R/bin/R CMD build --keep-empty-dirs --no-resave-data PhIPData StartedAt: 2025-11-05 19:18:40 -0500 (Wed, 05 Nov 2025) EndedAt: 2025-11-05 19:19:22 -0500 (Wed, 05 Nov 2025) EllapsedTime: 42.0 seconds RetCode: 0 Status: OK PackageFile: PhIPData_1.19.0.tar.gz PackageFileSize: 820.8 KiB