Package: PepsNMR Version: 1.29.0 Command: /home/biocbuild/bbs-3.23-bioc/R/bin/R CMD INSTALL PepsNMR StartedAt: 2025-10-31 15:18:37 -0400 (Fri, 31 Oct 2025) EndedAt: 2025-10-31 15:18:46 -0400 (Fri, 31 Oct 2025) EllapsedTime: 8.8 seconds RetCode: 0 Status: OK