Package: PepsNMR Version: 1.29.0 Command: /Library/Frameworks/R.framework/Resources/bin/R CMD INSTALL PepsNMR StartedAt: 2025-11-20 15:17:23 -0500 (Thu, 20 Nov 2025) EndedAt: 2025-11-20 15:17:52 -0500 (Thu, 20 Nov 2025) EllapsedTime: 28.8 seconds RetCode: 0 Status: OK