Package: PepsNMR Version: 1.29.0 Command: /Library/Frameworks/R.framework/Resources/bin/R CMD build --keep-empty-dirs --no-resave-data PepsNMR StartedAt: 2025-11-20 18:11:04 -0500 (Thu, 20 Nov 2025) EndedAt: 2025-11-20 18:16:12 -0500 (Thu, 20 Nov 2025) EllapsedTime: 307.9 seconds RetCode: 0 Status: OK PackageFile: PepsNMR_1.29.0.tar.gz PackageFileSize: 1.27 MiB