Package: PepsNMR Version: 1.29.0 Command: rm -rf PepsNMR.buildbin-libdir && mkdir PepsNMR.buildbin-libdir && /Users/biocbuild/BBS/utils/build-universal.sh PepsNMR_1.29.0.tar.gz /Library/Frameworks/R.framework/Resources/bin/R PepsNMR.buildbin-libdir StartedAt: 2025-11-21 01:48:50 -0500 (Fri, 21 Nov 2025) EndedAt: 2025-11-21 01:49:07 -0500 (Fri, 21 Nov 2025) EllapsedTime: 17.3 seconds RetCode: 0 Status: OK PackageFile: PepsNMR_1.29.0.tgz PackageFileSize: 1.373 MiB