Package: PepsNMR Version: 1.27.0 Command: /Library/Frameworks/R.framework/Resources/bin/R CMD INSTALL PepsNMR StartedAt: 2025-10-09 15:06:32 -0400 (Thu, 09 Oct 2025) EndedAt: 2025-10-09 15:06:39 -0400 (Thu, 09 Oct 2025) EllapsedTime: 6.8 seconds RetCode: 0 Status: OK