Package: PepsNMR Version: 1.27.0 Command: /Library/Frameworks/R.framework/Resources/bin/R CMD build --keep-empty-dirs --no-resave-data PepsNMR StartedAt: 2025-10-09 17:18:08 -0400 (Thu, 09 Oct 2025) EndedAt: 2025-10-09 17:19:40 -0400 (Thu, 09 Oct 2025) EllapsedTime: 92.0 seconds RetCode: 0 Status: OK PackageFile: PepsNMR_1.27.0.tar.gz PackageFileSize: 1.271 MiB