Package: PepSetTest Version: 1.5.0 Command: /home/biocbuild/bbs-3.23-bioc/R/bin/R CMD check --install=check:PepSetTest.install-out.txt --library=/home/biocbuild/bbs-3.23-bioc/R/site-library --timings PepSetTest_1.5.0.tar.gz StartedAt: 2025-11-01 02:13:02 -0400 (Sat, 01 Nov 2025) EndedAt: 2025-11-01 02:13:58 -0400 (Sat, 01 Nov 2025) EllapsedTime: 56.1 seconds RetCode: 0 Status: OK CheckDir: PepSetTest.Rcheck Warnings: 0