Package: PepSetTest Version: 1.5.0 Command: /home/biocbuild/bbs-3.23-bioc/R/bin/R CMD build --keep-empty-dirs --no-resave-data PepSetTest StartedAt: 2025-11-03 19:07:37 -0500 (Mon, 03 Nov 2025) EndedAt: 2025-11-03 19:07:57 -0500 (Mon, 03 Nov 2025) EllapsedTime: 20.0 seconds RetCode: 0 Status: OK PackageFile: PepSetTest_1.5.0.tar.gz PackageFileSize: 248.4 KiB