Package: Pedixplorer Version: 1.5.6 Command: /Library/Frameworks/R.framework/Resources/bin/R CMD INSTALL Pedixplorer StartedAt: 2025-10-26 15:07:08 -0400 (Sun, 26 Oct 2025) EndedAt: 2025-10-26 15:07:16 -0400 (Sun, 26 Oct 2025) EllapsedTime: 7.4 seconds RetCode: 0 Status: OK