Package: Pedixplorer Version: 1.5.6 Command: /Library/Frameworks/R.framework/Resources/bin/R CMD build --keep-empty-dirs --no-resave-data Pedixplorer StartedAt: 2025-10-24 17:20:43 -0400 (Fri, 24 Oct 2025) EndedAt: 2025-10-24 17:21:15 -0400 (Fri, 24 Oct 2025) EllapsedTime: 32.4 seconds RetCode: 0 Status: OK PackageFile: Pedixplorer_1.5.6.tar.gz PackageFileSize: 6.015 MiB