Package: PeacoQC Version: 1.21.0 Command: /home/biocbuild/bbs-3.23-bioc/R/bin/R CMD build --keep-empty-dirs --no-resave-data PeacoQC StartedAt: 2025-11-19 19:18:04 -0500 (Wed, 19 Nov 2025) EndedAt: 2025-11-19 19:19:01 -0500 (Wed, 19 Nov 2025) EllapsedTime: 57.1 seconds RetCode: 0 Status: OK PackageFile: PeacoQC_1.21.0.tar.gz PackageFileSize: 1.521 MiB