Package: PeacoQC Version: 1.19.0 Command: /Library/Frameworks/R.framework/Resources/bin/R CMD INSTALL PeacoQC StartedAt: 2025-10-15 15:10:07 -0400 (Wed, 15 Oct 2025) EndedAt: 2025-10-15 15:10:14 -0400 (Wed, 15 Oct 2025) EllapsedTime: 6.9 seconds RetCode: 0 Status: OK