Package: PeacoQC Version: 1.19.0 Command: /Library/Frameworks/R.framework/Resources/bin/R CMD build --keep-empty-dirs --no-resave-data PeacoQC StartedAt: 2025-10-15 17:23:32 -0400 (Wed, 15 Oct 2025) EndedAt: 2025-10-15 17:23:57 -0400 (Wed, 15 Oct 2025) EllapsedTime: 24.3 seconds RetCode: 0 Status: OK PackageFile: PeacoQC_1.19.0.tar.gz PackageFileSize: 1.52 MiB