Package: PeacoQC Version: 1.19.0 Command: rm -rf PeacoQC.buildbin-libdir && mkdir PeacoQC.buildbin-libdir && /Users/biocbuild/BBS/utils/build-universal.sh PeacoQC_1.19.0.tar.gz /Library/Frameworks/R.framework/Resources/bin/R PeacoQC.buildbin-libdir StartedAt: 2025-10-15 22:56:37 -0400 (Wed, 15 Oct 2025) EndedAt: 2025-10-15 22:56:44 -0400 (Wed, 15 Oct 2025) EllapsedTime: 7.2 seconds RetCode: 0 Status: OK PackageFile: PeacoQC_1.19.0.tgz PackageFileSize: 1.599 MiB