Package: PathoStat Version: 1.35.0 Command: /home/biocbuild/R/R/bin/R CMD INSTALL PathoStat StartedAt: 2025-10-16 21:33:24 -0000 (Thu, 16 Oct 2025) EndedAt: 2025-10-16 21:34:13 -0000 (Thu, 16 Oct 2025) EllapsedTime: 48.7 seconds RetCode: 0 Status: OK