Package: PathoStat Version: 1.35.0 Command: /home/biocbuild/R/R/bin/R CMD build --keep-empty-dirs --no-resave-data PathoStat StartedAt: 2025-10-17 03:26:32 -0000 (Fri, 17 Oct 2025) EndedAt: 2025-10-17 03:27:24 -0000 (Fri, 17 Oct 2025) EllapsedTime: 52.0 seconds RetCode: 0 Status: OK PackageFile: PathoStat_1.35.0.tar.gz PackageFileSize: 948.4 KiB