Package: PathoStat Version: 1.37.0 Command: /home/biocbuild/bbs-3.23-bioc/R/bin/R CMD check --install=check:PathoStat.install-out.txt --library=/home/biocbuild/bbs-3.23-bioc/R/site-library --timings PathoStat_1.37.0.tar.gz StartedAt: 2025-11-08 02:26:33 -0500 (Sat, 08 Nov 2025) EndedAt: 2025-11-08 02:31:52 -0500 (Sat, 08 Nov 2025) EllapsedTime: 319.4 seconds RetCode: 0 Status: OK CheckDir: PathoStat.Rcheck Warnings: 0