Package: PathoStat Version: 1.37.0 Command: /home/biocbuild/bbs-3.23-bioc/R/bin/R CMD build --keep-empty-dirs --no-resave-data PathoStat StartedAt: 2025-11-05 19:14:52 -0500 (Wed, 05 Nov 2025) EndedAt: 2025-11-05 19:15:31 -0500 (Wed, 05 Nov 2025) EllapsedTime: 39.0 seconds RetCode: 0 Status: OK PackageFile: PathoStat_1.37.0.tar.gz PackageFileSize: 947.9 KiB