Package: PathNet Version: 1.51.0 Command: /home/biocbuild/bbs-3.23-bioc/R/bin/R CMD INSTALL PathNet StartedAt: 2025-11-03 15:01:43 -0500 (Mon, 03 Nov 2025) EndedAt: 2025-11-03 15:01:49 -0500 (Mon, 03 Nov 2025) EllapsedTime: 5.5 seconds RetCode: 0 Status: OK