Package: PathNet Version: 1.51.0 Command: /home/biocbuild/bbs-3.23-bioc/R/bin/R CMD check --install=check:PathNet.install-out.txt --library=/home/biocbuild/bbs-3.23-bioc/R/site-library --timings PathNet_1.51.0.tar.gz StartedAt: 2025-11-03 02:00:34 -0500 (Mon, 03 Nov 2025) EndedAt: 2025-11-03 02:02:29 -0500 (Mon, 03 Nov 2025) EllapsedTime: 115.3 seconds RetCode: 0 Status: OK CheckDir: PathNet.Rcheck Warnings: 0