Package: PathNet Version: 1.51.0 Command: /home/biocbuild/bbs-3.23-bioc/R/bin/R CMD build --keep-empty-dirs --no-resave-data PathNet StartedAt: 2025-11-02 19:08:08 -0500 (Sun, 02 Nov 2025) EndedAt: 2025-11-02 19:09:05 -0500 (Sun, 02 Nov 2025) EllapsedTime: 57.0 seconds RetCode: 0 Status: OK PackageFile: PathNet_1.51.0.tar.gz PackageFileSize: 823.9 KiB